BEGIN:VCALENDAR
VERSION:2.0
PRODID:-//Westmeath Sports Partnership - ECPv6.2.3.1//NONSGML v1.0//EN
CALSCALE:GREGORIAN
METHOD:PUBLISH
X-WR-CALNAME:Westmeath Sports Partnership
X-ORIGINAL-URL:https://www.westmeathsports.ie
X-WR-CALDESC:Events for Westmeath Sports Partnership
REFRESH-INTERVAL;VALUE=DURATION:PT1H
X-Robots-Tag:noindex
X-PUBLISHED-TTL:PT1H
BEGIN:VTIMEZONE
TZID:Europe/Dublin
BEGIN:STANDARD
TZOFFSETFROM:+0000
TZOFFSETTO:+0100
TZNAME:IST
DTSTART:20240331T010000
END:STANDARD
BEGIN:DAYLIGHT
TZOFFSETFROM:+0100
TZOFFSETTO:+0000
TZNAME:GMT
DTSTART:20241027T010000
END:DAYLIGHT
END:VTIMEZONE
BEGIN:VEVENT
DTSTART;TZID=Europe/Dublin:20241002T080000
DTEND;TZID=Europe/Dublin:20241106T170000
DTSTAMP:20260423T012003
CREATED:20240930T144257Z
LAST-MODIFIED:20240930T144259Z
UID:8715-1727856000-1730912400@www.westmeathsports.ie
SUMMARY:Easy Keep Fit For Older Adults
DESCRIPTION:Join our Easy Keep Fit Classes for Older Adults! 💪 \n\n\n\nAre you looking for a fun and effective way to stay active and improve your overall health? Our six-week program is designed to help you increase your physical activity levels in a friendly and supportive environment. \n\n\n\nWhy join? \n\n\n\n\nGentle exercise: Our classes are perfect for people of all fitness levels.\n\n\n\nSocial atmosphere: Meet new friends and have fun while exercising.\n\n\n\nExperienced instructors: Our qualified instructors will guide you through each session.\n\n\n\nAffordable: Pay only €20 for six weeks!\n\n\n\n\nWhen and where? \n\n\n\n\nStarts Wednesday\, October 2nd\n\n\n\nCoralstown/Kinnegad GAA Club\n\n\n\n11am-12pm\n\n\n\n\nDon’t miss out! Register today and start your journey to better health.
URL:https://www.westmeathsports.ie/event/easy-keep-fit-for-older-adults/
LOCATION:Coralstown/Kinnegad GAA Club\, Manorfield\, Kinnegad\, Kinnegad\, Ireland
ATTACH;FMTTYPE=image/png:https://www.westmeathsports.ie/wp-content/uploads/2024/09/Easy-Keep-Fit-poster.png
ORGANIZER;CN="Westmeath Sports Partnership":MAILTO:info@westmeathsports.ie
END:VEVENT
BEGIN:VEVENT
DTSTART;TZID=Europe/Dublin:20241023T183000
DTEND;TZID=Europe/Dublin:20241023T213000
DTSTAMP:20260423T012003
CREATED:20240315T135421Z
LAST-MODIFIED:20240315T135421Z
UID:7728-1729708200-1729719000@www.westmeathsports.ie
SUMMARY:Safeguarding 1 - Child Welfare & Protection Basic Awareness Workshop
DESCRIPTION:All Coaches\, Club Children’s Officers (CCO) and Designated Liaison Persons (DLP) must first complete the 3 hour Child Welfare & Protection Basic Awareness Workshop.  \nThis workshop educates participants on the implementation of best practice in safeguarding the welfare of children involved in sport. \nThe online Safeguarding 1 Workshop is an interactive course which requires participants to have : \nGood internet connection to allow you to have a video / take part in group discussion. \nAccess to email – Zoom link and course materials will be sent out to participants prior to course date in word and PDF. \nTo gain accreditation\, it is essential to complete the whole course. \nPlease beware : \n\nThis course is for Over 18’s ONLY – MAXIMUM 2 persons per club/sports organisation.\n\n  \n\nEach participant must have their own individual Zoom connection. Sharing connections is not an acceptable method of participating.\n\nThe online course will be delivered between 6.30pm -9.30pm via Zoom. \nCertificates of completion will be issued by post and participant details are subsequently registered with Sport Ireland’s National Database. \nShould you require any further information on accessing the online safeguarding course feel free to contact Westmeath Sports Partnership on 044 93 90208 or email info@westmeathsports.ie
URL:https://www.westmeathsports.ie/event/safeguarding-1-child-welfare-protection-basic-awareness-workshop-4/
LOCATION:Online
ATTACH;FMTTYPE=image/png:https://www.westmeathsports.ie/wp-content/uploads/2023/11/SG-1-Web.png
ORGANIZER;CN="Westmeath Sports Partnership":MAILTO:info@westmeathsports.ie
END:VEVENT
END:VCALENDAR