BEGIN:VCALENDAR
VERSION:2.0
PRODID:-//Westmeath Sports Partnership - ECPv6.2.3.1//NONSGML v1.0//EN
CALSCALE:GREGORIAN
METHOD:PUBLISH
X-WR-CALNAME:Westmeath Sports Partnership
X-ORIGINAL-URL:https://www.westmeathsports.ie
X-WR-CALDESC:Events for Westmeath Sports Partnership
REFRESH-INTERVAL;VALUE=DURATION:PT1H
X-Robots-Tag:noindex
X-PUBLISHED-TTL:PT1H
BEGIN:VTIMEZONE
TZID:Europe/Dublin
BEGIN:STANDARD
TZOFFSETFROM:+0000
TZOFFSETTO:+0100
TZNAME:IST
DTSTART:20240331T010000
END:STANDARD
BEGIN:DAYLIGHT
TZOFFSETFROM:+0100
TZOFFSETTO:+0000
TZNAME:GMT
DTSTART:20241027T010000
END:DAYLIGHT
END:VTIMEZONE
BEGIN:VEVENT
DTSTART;TZID=Europe/Dublin:20240914T100000
DTEND;TZID=Europe/Dublin:20240914T120000
DTSTAMP:20260422T235003
CREATED:20240828T135910Z
LAST-MODIFIED:20240924T103036Z
UID:8380-1726308000-1726315200@www.westmeathsports.ie
SUMMARY:Maroon Lakers Activity Camp For Children With Disabilities (8-12)
DESCRIPTION:The Maroon Lakers Multi-Activity Programme is an initiative by Westmeath Sports Partnership which is facilitated under the Sports Inclusion Programme and supported by the Community Hub based at Athlone Regional Sports Centre.\n\n\n\nYou can register for the course here or by clicking the blue button below. \n\n\n\nThe programme caters for children with a disability aged between eight and twelve years of age. \n\n\n\nThe Multi-Activity Programme will be implemented over six weeks\, comprising of fun activities\, focusing on agility\, balance\, and coordination of participants. \n\n\n\nClasses begin on Saturday September 14th and continue each Saturday until October 19 (Sept 14\, 21\, 28 & Oct 12\, 19 &26). Please note there is no class on October 05. \n\n\n\nClasses begin at 9.45am and conclude at 10.40am. \n\n\n\nPlease note places are limited and will be offered on a first come basis. \n\n\n\nA minimum number of participants is required to facilitate this programme. \n\n\n\nFor further information please contact : \n\n\n\nMary Kate Duignan (Westmeath Sports Partnership) – mary.duignan@westmeathcoco.ie or 044 9338921
URL:https://www.westmeathsports.ie/event/maroon-lakers-activity-camp-for-children-with-disabilities-8-12/
LOCATION:Athlone Regional Sports Centre\, Brawny Road\,\, Athlone\, Westmeath\, N37 W3W0\, Ireland
ORGANIZER;CN="Westmeath Sports Partnership":MAILTO:info@westmeathsports.ie
END:VEVENT
BEGIN:VEVENT
DTSTART;TZID=Europe/Dublin:20240914T103000
DTEND;TZID=Europe/Dublin:20240914T120000
DTSTAMP:20260422T235003
CREATED:20240828T135735Z
LAST-MODIFIED:20240924T103011Z
UID:8383-1726309800-1726315200@www.westmeathsports.ie
SUMMARY:Maroon Lakers Activity Programme For Teens With Disabilities (13-17) ( SOLD OUT)
DESCRIPTION:(UPDATE THURSDAY Aug 29). \n\n\n\n(This programme is now at capacity for the 13 – 17 cohort\, but\, if you would like to join our waitlist in case a space becomes available please register at the link below.) \n\n\n\nThe Maroon Lakers Multi-Activity Programme is an initiative by Westmeath Sports Partnership which is facilitated under the Sports Inclusion Programme and supported by The Community Hub based at Athlone Regional Sports Centre.\n\n\n\nThe programme caters for teenagers with a disability aged between thirteen and seventeen years of age. \n\n\n\nThe Multi-Activity Programme will be implemented over six weeks\, comprising of fun activities\, focusing on agility\, balance\, and coordination of participants. \n\n\n\nClasses begin on Saturday September 14th and continue each Saturday until October 19 (Sept 14\, 21\, 28 & Oct 12\, 19 &26). Please note there is no class on October 05. \n\n\n\nClasses begin at 10.50am and conclude at 11.45am. \n\n\n\nPlease note places are limited and will be offered on a first come basis. \n\n\n\nA minimum number of participants is required to facilitate this programme. \n\n\n\nFor further information please contact : \n\n\n\nMary Kate Duignan (Westmeath Sports Partnership) – mary.duignan@westmeathcoco.ie or 044 9338921
URL:https://www.westmeathsports.ie/event/maroon-lakers-activity-programme-for-teens-with-disabilities/
LOCATION:Athlone Regional Sports Centre\, Brawny Road\,\, Athlone\, Westmeath\, N37 W3W0\, Ireland
ORGANIZER;CN="Westmeath Sports Partnership":MAILTO:info@westmeathsports.ie
END:VEVENT
END:VCALENDAR