BEGIN:VCALENDAR
VERSION:2.0
PRODID:-//Westmeath Sports Partnership - ECPv6.2.3.1//NONSGML v1.0//EN
CALSCALE:GREGORIAN
METHOD:PUBLISH
X-ORIGINAL-URL:https://www.westmeathsports.ie
X-WR-CALDESC:Events for Westmeath Sports Partnership
REFRESH-INTERVAL;VALUE=DURATION:PT1H
X-Robots-Tag:noindex
X-PUBLISHED-TTL:PT1H
BEGIN:VTIMEZONE
TZID:Europe/Dublin
BEGIN:STANDARD
TZOFFSETFROM:+0000
TZOFFSETTO:+0100
TZNAME:IST
DTSTART:20240331T010000
END:STANDARD
BEGIN:DAYLIGHT
TZOFFSETFROM:+0100
TZOFFSETTO:+0000
TZNAME:GMT
DTSTART:20241027T010000
END:DAYLIGHT
END:VTIMEZONE
BEGIN:VEVENT
DTSTART;TZID=Europe/Dublin:20240820T190000
DTEND;TZID=Europe/Dublin:20240910T210000
DTSTAMP:20260422T235725
CREATED:20240807T085335Z
LAST-MODIFIED:20240807T085340Z
UID:8342-1724180400-1726002000@www.westmeathsports.ie
SUMMARY:Lads And Dads Kayaking - Athlone
DESCRIPTION:This four-week introductory kayaking course for Lads & Dads will take place in Coosan Point\, Athlone\, from 7.00-9.00pm on Tuesdays\, August 20th\, 27th\, September 3rd\, 10th \n\n\n\nThis course is for males aged 18+ who want to learn kayaking and paddle skills in a relaxed\, social and fun environment. The aim is for participants to be introduced to a new water-based activity within the beautiful outdoors\, while also gaining a Canoe Ireland Level One kayaking skills certification. \n\n\n\nCost of registration is €50 but participants will be refunded €5 per session attended. \n\n\n\n(Refunded amounts will be distributed via the same method of payment at the conclusion of the programme. These courses have extremely high demand so this is to encourage those who are lucky enough to get a place\, to turn up the sessions). \n\n\n\nYou do not need to be a strong swimmer to participate in this course but you should feel comfortable in water with a buoyancy aid. \n\n\n\nAs there will be limited changing facilities\, please wear swimwear under clothing on arrival. Wetsuits are available to use but if you have your own you can use this. All equipment provided including kayaks\, buoyancy aids\, helmets\, paddles etc. Please ensure you bring old footwear to wear into the water\, and a towel\, a drink and sun cream if sunny. \n\n\n\nMeeting point will be the Car Park at Coosan Point and all sessions will take place at Coosan Point\, unless notified otherwise by the instructor or Westmeath Sports Partnership. \n\n\n\nThis course is kindly funded and supported by Healthy Ireland and Healthy Westmeath. Participants will be required to complete a short pre and post programme questionnaire to take part in this course. \n\n\n\nFor any further detail please contact cian.fogarty@westmeathcoco.ie
URL:https://www.westmeathsports.ie/event/lads-and-dads-kayaking-athlone/
LOCATION:Coosan Point\, Athlone\, Athlone\, Westmeath\, Ireland
ATTACH;FMTTYPE=image/png:https://www.westmeathsports.ie/wp-content/uploads/2024/08/Lads-and-dads-kayak-2024.png
ORGANIZER;CN="Westmeath Sports Partnership":MAILTO:info@westmeathsports.ie
END:VEVENT
BEGIN:VEVENT
DTSTART;TZID=Europe/Dublin:20240822T190000
DTEND;TZID=Europe/Dublin:20240912T210000
DTSTAMP:20260422T235725
CREATED:20240807T090156Z
LAST-MODIFIED:20240807T150738Z
UID:8346-1724353200-1726174800@www.westmeathsports.ie
SUMMARY:Lads And Dads Kayaking - Mullingar
DESCRIPTION:This four-week introductory kayaking course for Lads & Dads will take place in Lough Owel\, Mullingar from 7.00pm – 9.00pm on Thursdays\, August 22nd\, 29th\, September 5th\, 12th \n\n\n\nThis course is for males aged 18+ who want to learn kayaking and paddle skills in a relaxed\, social and fun environment. The aim is for participants to be introduced to a new water-based activity within the beautiful outdoors\, while also gaining a Canoe Ireland Level One kayaking skills certification. \n\n\n\nCost of registration is €50 but participants will be refunded €5 per session attended. \n\n\n\n(Refunded amounts will be distributed via the same method of payment at the conclusion of the programme. These courses have extremely high demand so this is to encourage those who are lucky enough to get a place\, to turn up the sessions). \n\n\n\nYou do not need to be a strong swimmer to participate in this course but you should feel comfortable in water with a buoyancy aid. \n\n\n\nAs there will be limited changing facilities\, please wear swimwear under clothing on arrival. Wetsuits are available to use but if you have your own you can use this. All equipment provided including kayaks\, buoyancy aids\, helmets\, paddles etc. Please ensure you bring old footwear to wear into the water\, and a towel\, a drink and sun cream if sunny. \n\n\n\nMeeting point will be the Car Park at Lough Owel beside Mullingar Sailing Club and all sessions will take place here\, unless notified otherwise by the instructor or Westmeath Sports Partnership. \n\n\n\nThis course is kindly funded and supported by Healthy Ireland and Healthy Westmeath. Participants will be required to complete a short pre and post programme questionnaire to take part in this course. \n\n\n\nF or any further detail please contact cian.fogarty@westmeathcoco.ie
URL:https://www.westmeathsports.ie/event/lads-and-dads-kayaking-mullingar/
LOCATION:Lough Owel\, Lough Owel\, Mullingar\, Westmeath\, Ireland
ATTACH;FMTTYPE=image/png:https://www.westmeathsports.ie/wp-content/uploads/2024/08/Lads-and-dads-kayak-2024.png
ORGANIZER;CN="Westmeath Sports Partnership":MAILTO:info@westmeathsports.ie
END:VEVENT
BEGIN:VEVENT
DTSTART;TZID=Europe/Dublin:20240909T183000
DTEND;TZID=Europe/Dublin:20240909T213000
DTSTAMP:20260422T235725
CREATED:20240315T131520Z
LAST-MODIFIED:20240315T131520Z
UID:7726-1725906600-1725917400@www.westmeathsports.ie
SUMMARY:Safeguarding 1 - Child Welfare & Protection Basic Awareness Workshop
DESCRIPTION:All Coaches\, Club Children’s Officers (CCO) and Designated Liaison Persons (DLP) must first complete the 3 hour Child Welfare & Protection Basic Awareness Workshop.  \nThis workshop educates participants on the implementation of best practice in safeguarding the welfare of children involved in sport. \nThe online Safeguarding 1 Workshop is an interactive course which requires participants to have : \nGood internet connection to allow you to have a video / take part in group discussion. \nAccess to email – Zoom link and course materials will be sent out to participants prior to course date in word and PDF. \nTo gain accreditation\, it is essential to complete the whole course. \nPlease beware : \n\nThis course is for Over 18’s ONLY – MAXIMUM 2 persons per club/sports organisation.\n\n  \n\nEach participant must have their own individual Zoom connection. Sharing connections is not an acceptable method of participating.\n\nThe online course will be delivered between 6.30pm -9.30pm via Zoom. Certificates of completion will be issued by post and participant details are subsequently registered with Sport Ireland’s National Database. Should you require any further information on accessing the online safeguarding course feel free to contact Westmeath Sports Partnership on 044 93 90208 or email info@westmeathsports.ie
URL:https://www.westmeathsports.ie/event/safeguarding-1-child-welfare-protection-basic-awareness-workshop-3/
LOCATION:Online
ATTACH;FMTTYPE=image/png:https://www.westmeathsports.ie/wp-content/uploads/2023/11/SG-1-Web.png
ORGANIZER;CN="Westmeath Sports Partnership":MAILTO:info@westmeathsports.ie
END:VEVENT
END:VCALENDAR