BEGIN:VCALENDAR
VERSION:2.0
PRODID:-//Westmeath Sports Partnership - ECPv6.2.3.1//NONSGML v1.0//EN
CALSCALE:GREGORIAN
METHOD:PUBLISH
X-WR-CALNAME:Westmeath Sports Partnership
X-ORIGINAL-URL:https://www.westmeathsports.ie
X-WR-CALDESC:Events for Westmeath Sports Partnership
REFRESH-INTERVAL;VALUE=DURATION:PT1H
X-Robots-Tag:noindex
X-PUBLISHED-TTL:PT1H
BEGIN:VTIMEZONE
TZID:Europe/Dublin
BEGIN:STANDARD
TZOFFSETFROM:+0000
TZOFFSETTO:+0100
TZNAME:IST
DTSTART:20240331T010000
END:STANDARD
BEGIN:DAYLIGHT
TZOFFSETFROM:+0100
TZOFFSETTO:+0000
TZNAME:GMT
DTSTART:20241027T010000
END:DAYLIGHT
END:VTIMEZONE
BEGIN:VEVENT
DTSTART;TZID=Europe/Dublin:20240730T183000
DTEND;TZID=Europe/Dublin:20240827T203000
DTSTAMP:20260422T223039
CREATED:20240722T131736Z
LAST-MODIFIED:20240807T150409Z
UID:8182-1722364200-1724790600@www.westmeathsports.ie
SUMMARY:Women On Wheels (Sold Out)
DESCRIPTION:THIS IS NOW SOLD OUT! \n\n\n\n\n\n\n\n\n\nTHIS IS NOW SOLD OUT! \n\n\n\nWomen on Wheels is programme for women looking to begin or return to cycling. The focus of the programme is on learning\, meeting new people with the group cycle a prominent feature. This progressive five-week programme will support women who would like to improve their cycling confidence and competence in a welcoming\, supportive and social environment. \n\n\n\n\nTuesdays\n\n\n\n5 sessions\n\n\n\nJuly 30\, August 6\, 13\, 20\, 27\n\n\n\n6.30pm start time\n\n\n\nCost €20\n\n\n\nWomen aged 18+ only\n\n\n\nMust have own roadworthy bike and helmet\n\n\n\nMeeting point is Old Rail Trail Greenway car park adjacent Trend Technologies Mullingar (https://maps.app.goo.gl/u5cqaTnGkg9ajpH47).\n\n\n\nInitial cycles will take place on greenway (flat and road traffic free!) with ride leaders assisting participants for safety checks on their bikes. \n\n\n\nSession 1 will be a cycle to Ballinea for a refreshment stop with the following sessions being adapted to suit participants fitness levels and weather conditions\, etc.\n\n\n\n\nParticipants of this Women on Wheels course can avail of discounted Cycling Ireland Leisure Membership upon completion of the course!
URL:https://www.westmeathsports.ie/event/women-on-wheels/
LOCATION:Old Rail Trail Car Park\, Mullingar\, R394\, Mullingar\, Ireland
ATTACH;FMTTYPE=image/png:https://www.westmeathsports.ie/wp-content/uploads/2024/07/Copy-of-Social-cycling-2.png
ORGANIZER;CN="Westmeath Sports Partnership":MAILTO:info@westmeathsports.ie
END:VEVENT
BEGIN:VEVENT
DTSTART;TZID=Europe/Dublin:20240813T190000
DTEND;TZID=Europe/Dublin:20240820T200000
DTSTAMP:20260422T223039
CREATED:20240722T134554Z
LAST-MODIFIED:20240815T133839Z
UID:8188-1723575600-1724184000@www.westmeathsports.ie
SUMMARY:Outdoor Activator Poles - Moate
DESCRIPTION:The final class is on August 20 \n\n\n\nThe initial sessions of this programme will take place in Dún na Sí Amenity Park. Subsequent sessions may then take place along the Old Rail Trail Greenway but this will be confirmed with your tutor. \n\n\n\nThis programme is aimed at adults aged 50+ who are looking to get outdoors and improve or maintain their fitness and health in a welcoming\, social and supportive environment. \n\n\n\nThe sessions will involve light\, gentle walking along the greenway with the activator poles and incorporate some strength and balance exercises. \n\n\n\nAll sessions will be led by qualified\, experienced and supportive exercise professionals. Please ensure you wear comfortable clothing and shoes and bring a drink. \n\n\n\nAll programme details will remain the same unless notified by the Westmeath Sports Partnership or the programme tutor. \n\n\n\nAny queries please contact cian.fogarty@westmeathcoco.ie \n\n\n\n* Note: As spaces are limited please only register if you are confident you can make the majority of the sessions. We understand things happen and some sessions may be missed but we ask you to be aware you may be taking an opportunity away from someone else\, thank you.
URL:https://www.westmeathsports.ie/event/outdoor-activator-poles-moate/
LOCATION:Dún na Sí Amenity and Heritage Park\, Lake Road\, Knockdomny\,\, Athlone\, Westmeath\, N37 P271\, Ireland
ORGANIZER;CN="Westmeath Sports Partnership":MAILTO:info@westmeathsports.ie
END:VEVENT
BEGIN:VEVENT
DTSTART;TZID=Europe/Dublin:20240814T123000
DTEND;TZID=Europe/Dublin:20240814T143000
DTSTAMP:20260422T223039
CREATED:20240730T081514Z
LAST-MODIFIED:20240730T085117Z
UID:8250-1723638600-1723645800@www.westmeathsports.ie
SUMMARY:Come And Try Orienteering
DESCRIPTION:This August\, Westmeath Sports Partnership is providing the opportunity to come and try orienteering! \n\n\n\n\nAthlone Regional Sports Centre\n\n\n\nWednesday 14th August\n\n\n\n12.30pm – 2.30pm.\n\n\n\n€5 per family/group (refunded upon attendance)\n\n\n\nSuitable for all aged 7+\n\n\n\n\nA trained tutor will be on hand to guide you through a warm-up orienteering activity (the maze!)\, and then you will have the opportunity to try out standard orienteering using MapRun6 (with accessible courses available) and also Photo Orienteering (suitable for younger kids or those with additional needs). \n\n\n\nOrienteering is a sport that combines physical activity with navigation\, challenging both the body and the mind. It is a sport that can be enjoyed by groups of families\, friends\, or as individuals and is very accessible for all ages and abilities. \n\n\n\nIf you are attending as a family or group\, just one member needs to register; however\, you will be asked how many is within your family or group. \n\n\n\nMapRun: MapRun is a FREE orienteering application available on Android/Apple that gives access to the maps on your mobile device. \n\n\n\n\nWe recommend downloading this if attending.\n\n\n\n\nFor any queries on this event please contact cian.fogarty@westmeathcoco.ie
URL:https://www.westmeathsports.ie/event/come-and-try-orienteering/
LOCATION:Athlone Regional Sports Centre\, Brawny Road\,\, Athlone\, Westmeath\, N37 W3W0\, Ireland
ATTACH;FMTTYPE=image/png:https://www.westmeathsports.ie/wp-content/uploads/2024/04/Orienteering-V2.png
ORGANIZER;CN="Westmeath Sports Partnership":MAILTO:info@westmeathsports.ie
END:VEVENT
BEGIN:VEVENT
DTSTART;TZID=Europe/Dublin:20240814T190000
DTEND;TZID=Europe/Dublin:20240814T203000
DTSTAMP:20260422T223039
CREATED:20240802T120645Z
LAST-MODIFIED:20240807T094830Z
UID:8337-1723662000-1723667400@www.westmeathsports.ie
SUMMARY:Come and Try SUP Yoga ( SOLD OUT)
DESCRIPTION:(THIS IS NOW SOLD OUT- PLEASE REGISTER BELOW TO BE ADDED TO WAITING LIST) \n\n\n\nAs part of Her Outdoors Week 2024\, Westmeath Sports Partnership has organised a come and try SUP yoga session for females aged 12+ at Lough Ennel. \n\n\n\n\nLough Ennel\n\n\n\nMeeting point at Tudenham Shore (Google Maps link: 53°28’03.0″N 7°22’30.6″W)\n\n\n\nWednesday 12th August\n\n\n\n7.00pm -8.30pm\n\n\n\nOpen to females aged 12+\n\n\n\n€10 per person\n\n\n\nAll equipment is provided including wetsuits\, wetsocks\, gloves\, buoyancy aid\, paddles\, boards\n\n\n\nThis is a beginner friendly introductory session\n\n\n\n\nFor the full Her Outdoors Week schedule\, check out www.westmeathsports.ie
URL:https://www.westmeathsports.ie/event/come-and-try-sup-yoga-2/
LOCATION:Westmeath
ATTACH;FMTTYPE=image/png:https://www.westmeathsports.ie/wp-content/uploads/2024/08/WED-Come-and-Try-SUP-yoga.png
ORGANIZER;CN="Westmeath Sports Partnership":MAILTO:info@westmeathsports.ie
END:VEVENT
END:VCALENDAR