BEGIN:VCALENDAR
VERSION:2.0
PRODID:-//Westmeath Sports Partnership - ECPv6.2.3.1//NONSGML v1.0//EN
CALSCALE:GREGORIAN
METHOD:PUBLISH
X-WR-CALNAME:Westmeath Sports Partnership
X-ORIGINAL-URL:https://www.westmeathsports.ie
X-WR-CALDESC:Events for Westmeath Sports Partnership
REFRESH-INTERVAL;VALUE=DURATION:PT1H
X-Robots-Tag:noindex
X-PUBLISHED-TTL:PT1H
BEGIN:VTIMEZONE
TZID:Europe/Dublin
BEGIN:STANDARD
TZOFFSETFROM:+0000
TZOFFSETTO:+0100
TZNAME:IST
DTSTART:20240331T010000
END:STANDARD
BEGIN:DAYLIGHT
TZOFFSETFROM:+0100
TZOFFSETTO:+0000
TZNAME:GMT
DTSTART:20241027T010000
END:DAYLIGHT
END:VTIMEZONE
BEGIN:VEVENT
DTSTART;TZID=Europe/Dublin:20240730T183000
DTEND;TZID=Europe/Dublin:20240827T203000
DTSTAMP:20260422T223210
CREATED:20240722T131736Z
LAST-MODIFIED:20240807T150409Z
UID:8182-1722364200-1724790600@www.westmeathsports.ie
SUMMARY:Women On Wheels (Sold Out)
DESCRIPTION:THIS IS NOW SOLD OUT! \n\n\n\n\n\n\n\n\n\nTHIS IS NOW SOLD OUT! \n\n\n\nWomen on Wheels is programme for women looking to begin or return to cycling. The focus of the programme is on learning\, meeting new people with the group cycle a prominent feature. This progressive five-week programme will support women who would like to improve their cycling confidence and competence in a welcoming\, supportive and social environment. \n\n\n\n\nTuesdays\n\n\n\n5 sessions\n\n\n\nJuly 30\, August 6\, 13\, 20\, 27\n\n\n\n6.30pm start time\n\n\n\nCost €20\n\n\n\nWomen aged 18+ only\n\n\n\nMust have own roadworthy bike and helmet\n\n\n\nMeeting point is Old Rail Trail Greenway car park adjacent Trend Technologies Mullingar (https://maps.app.goo.gl/u5cqaTnGkg9ajpH47).\n\n\n\nInitial cycles will take place on greenway (flat and road traffic free!) with ride leaders assisting participants for safety checks on their bikes. \n\n\n\nSession 1 will be a cycle to Ballinea for a refreshment stop with the following sessions being adapted to suit participants fitness levels and weather conditions\, etc.\n\n\n\n\nParticipants of this Women on Wheels course can avail of discounted Cycling Ireland Leisure Membership upon completion of the course!
URL:https://www.westmeathsports.ie/event/women-on-wheels/
LOCATION:Old Rail Trail Car Park\, Mullingar\, R394\, Mullingar\, Ireland
ATTACH;FMTTYPE=image/png:https://www.westmeathsports.ie/wp-content/uploads/2024/07/Copy-of-Social-cycling-2.png
ORGANIZER;CN="Westmeath Sports Partnership":MAILTO:info@westmeathsports.ie
END:VEVENT
BEGIN:VEVENT
DTSTART;TZID=Europe/Dublin:20240812T190000
DTEND;TZID=Europe/Dublin:20240812T200000
DTSTAMP:20260422T223210
CREATED:20240731T135029Z
LAST-MODIFIED:20240731T135712Z
UID:8297-1723489200-1723492800@www.westmeathsports.ie
SUMMARY:Come And Try Pitch and Putt
DESCRIPTION:As part of Her Outdoors Week 2024\, Kilbeggan Pitch and Putt club is hosting a FREE come and try session for females. If you were looking for an opportunity to give pitch and putt a go or get back into it\, this is perfect for you. The super coaches in Kilbeggan P&P club will bring participants through a gentle session practicing some of the key skills of pitch and putt. \n\n\n\n\nKilbeggan Pitch and Putt Club\n\n\n\nMonday 12th August\n\n\n\n7.00pm – 8.30pm\n\n\n\nOpen to females 18+\n\n\n\nFree\n\n\n\nThere is equipment that can be borrowed if you do not own your own equipment (clubs\, balls\, tees)\n\n\n\n\nFor the full Her Outdoors Week schedule\, check out www.westmeathsports.ie
URL:https://www.westmeathsports.ie/event/come-and-try-pitch-and-putt-2/
LOCATION:Kilbeggan Pitch and Putt Club\, Mullingar Road\, Kilbeggan\, Westmeath\, N91 WD85\, Ireland
ATTACH;FMTTYPE=image/png:https://www.westmeathsports.ie/wp-content/uploads/2024/07/Kilbeggan-pitch-and-putt-1-2.png
ORGANIZER;CN="Westmeath Sports Partnership":MAILTO:info@westmeathsports.ie
END:VEVENT
BEGIN:VEVENT
DTSTART;TZID=Europe/Dublin:20240812T190000
DTEND;TZID=Europe/Dublin:20240812T203000
DTSTAMP:20260422T223210
CREATED:20240729T145032Z
LAST-MODIFIED:20240801T094424Z
UID:8245-1723489200-1723494600@www.westmeathsports.ie
SUMMARY:Come And Try SUP Yoga ( Sold Out)
DESCRIPTION:THIS IS NOW SOLD OUT!! \n\n\n\nPlease add your name to our waiting list if you would like to take part in the case of someone dropping out or cancelling their spot at the link below.  \n\n\n\nAs part of Her Outdoors Week 2024\, Westmeath Sports Partnership has organised a come and try SUP yoga session for females aged 12+ at Lough Ennel. \n\n\n\n\nLough Ennel\n\n\n\nMeeting point at Tudenham Shore (Google Maps link: 53°28’03.0″N 7°22’30.6″W)\n\n\n\nMonday 12th August\n\n\n\n7.00pm  – 8.30pm\n\n\n\nOpen to females aged 12+\n\n\n\n€10 per person\n\n\n\nAll equipment is provided including wetsuits\, wetsocks\, gloves\, buoyancy aid\, paddles\, boards\n\n\n\nThis is a beginner friendly introductory session
URL:https://www.westmeathsports.ie/event/come-and-try-sup-yoga/
LOCATION:Westmeath
ATTACH;FMTTYPE=image/png:https://www.westmeathsports.ie/wp-content/uploads/2024/07/MON-Come-and-Try-SUP-yoga.png
ORGANIZER;CN="Westmeath Sports Partnership":MAILTO:info@westmeathsports.ie
END:VEVENT
END:VCALENDAR