BEGIN:VCALENDAR
VERSION:2.0
PRODID:-//Westmeath Sports Partnership - ECPv6.2.3.1//NONSGML v1.0//EN
CALSCALE:GREGORIAN
METHOD:PUBLISH
X-WR-CALNAME:Westmeath Sports Partnership
X-ORIGINAL-URL:https://www.westmeathsports.ie
X-WR-CALDESC:Events for Westmeath Sports Partnership
REFRESH-INTERVAL;VALUE=DURATION:PT1H
X-Robots-Tag:noindex
X-PUBLISHED-TTL:PT1H
BEGIN:VTIMEZONE
TZID:Europe/Dublin
BEGIN:STANDARD
TZOFFSETFROM:+0000
TZOFFSETTO:+0100
TZNAME:IST
DTSTART:20240331T010000
END:STANDARD
BEGIN:DAYLIGHT
TZOFFSETFROM:+0100
TZOFFSETTO:+0000
TZNAME:GMT
DTSTART:20241027T010000
END:DAYLIGHT
END:VTIMEZONE
BEGIN:VEVENT
DTSTART;TZID=Europe/Dublin:20240708T100000
DTEND;TZID=Europe/Dublin:20240712T120000
DTSTAMP:20260422T211130
CREATED:20240612T134214Z
LAST-MODIFIED:20240612T135701Z
UID:8072-1720432800-1720785600@www.westmeathsports.ie
SUMMARY:Paddlesports Camps For Youths - Mullingar
DESCRIPTION:This camp is aimed at introducing young people aged 12-15 to paddlesports (paddleboarding and kayaking) in a supportive and fun environment. This week-long camp (5 sessions) will take place on Monday July 8th to Friday July 12th\, from 10am-12pm each day. \n\n\n\nCost of registration is €25 (there is extremely high demand for these courses so please only register if participant can attend minimum of 4 sessions). \n\n\n\nParticipants do not need to be a strong swimmer to participate in this course but you should feel comfortable in water with a buoyancy aid. \n\n\n\nAs there will be limited changing facilities\, please wear swimwear under clothing on arrival. Wetsuits are available to use but if you have your own you can use this. All other equipment will also be provided including paddleboards/kayaks\, buoyancy aids\, helmets\, paddles etc. Please ensure you bring old footwear to wear into water\, a towel\, a drink and sun cream if sunny. \n\n\n\nAll sessions will take place at Mullingar Harbour\, unless notified otherwise by the instructor or Westmeath Sports Partnership. All sessions facilitated by experienced and trained instructors from Inventure Watersports. \n\n\n\nIf participant cannot attend after registration please let us know so we can offer the place to someone else. Refunds available up until 48 hours before the first session commences. \n\n\n\nPaddlesports Summer Camp for Youths – Mullingar Registration\, Mon 8 Jul 2024 at 10:00 | Eventbrite \n\n\n\nDon’t miss out on this great opportunity to learn new skills\, make new friends\, and have some fun in the sun! ☀️ \n\n\n\nFor further queries\, contact info@westmeathsports.ie
URL:https://www.westmeathsports.ie/event/paddlesports-camps-for-youths-mullingar/
LOCATION:Mullingar Harbour\, Mullingar Harbour\, Mullingar\, Westmeath\, Ireland
ATTACH;FMTTYPE=image/png:https://www.westmeathsports.ie/wp-content/uploads/2024/06/Copy-of-Adults-Learn-to-Kayak-1.png
ORGANIZER;CN="Westmeath Sports Partnership":MAILTO:info@westmeathsports.ie
END:VEVENT
END:VCALENDAR