BEGIN:VCALENDAR
VERSION:2.0
PRODID:-//Westmeath Sports Partnership - ECPv6.2.3.1//NONSGML v1.0//EN
CALSCALE:GREGORIAN
METHOD:PUBLISH
X-ORIGINAL-URL:https://www.westmeathsports.ie
X-WR-CALDESC:Events for Westmeath Sports Partnership
REFRESH-INTERVAL;VALUE=DURATION:PT1H
X-Robots-Tag:noindex
X-PUBLISHED-TTL:PT1H
BEGIN:VTIMEZONE
TZID:Europe/Dublin
BEGIN:STANDARD
TZOFFSETFROM:+0000
TZOFFSETTO:+0100
TZNAME:IST
DTSTART:20240331T010000
END:STANDARD
BEGIN:DAYLIGHT
TZOFFSETFROM:+0100
TZOFFSETTO:+0000
TZNAME:GMT
DTSTART:20241027T010000
END:DAYLIGHT
END:VTIMEZONE
BEGIN:VEVENT
DTSTART;TZID=Europe/Dublin:20240626T190000
DTEND;TZID=Europe/Dublin:20240703T210000
DTSTAMP:20260422T211254
CREATED:20240522T124700Z
LAST-MODIFIED:20240625T145131Z
UID:8049-1719428400-1720040400@www.westmeathsports.ie
SUMMARY:Adults Learn To Kayak Mullingar
DESCRIPTION:This 4-week Introduction to Kayaking Course for Adults will take place in Mullingar at Lough Owel from 7-9pm on Wednesday June 12\, 19\, 26 and July 03\, between 7pm and 9pm. \n\n\n\nThis course is aimed at adults aged 18+ who want to learn kayaking and paddle skills in a relaxed\, social and inclusive environment. Participants who complete this course will gain the Canoe Ireland Level 1 in Kayaking Skills certification. \n\n\n\nCost of registration is €50 but participants will be refunded €5 per session attended (Refunded amounts will be distributed via the same method of payment at the conclusion of the programme. These courses have extremely high demand so this is to encourage those who are lucky enough to get a place\, to turn up the sessions)** \n\n\n\nYou do not need to be a strong swimmer to participate in this course but you should feel comfortable in water with a buoyancy aid. \n\n\n\nAs there will be limited changing facilities\, please wear swimwear under clothing on arrival. Wetsuits are available to use but if you have your own you can use this. All other safety equipment will also be provided including buoyancy aids\, helmets\, paddles etc. Please ensure you bring old footwear to wear into water\, a towel\, a drink and sun cream if sunny. \n\n\n\nMeeting point will be the Car Park beside the Mullingar Sailing Club. If there is a location change\, you will be notified via the instructor or Westmeath Sports Partnership. \n\n\n\n**If sessions are missed for legitimate reasons\, that is no problem\, just inform us. \n\n\n\nFor further queries\, contact cian.fogarty@westmeathcoco.ie or info@westmeathsports.ie \n\n\n\nRegister here: Adults Learn to Kayak – Mullingar Tickets\, Wed 12 Jun 2024 at 19:00 | Eventbrite
URL:https://www.westmeathsports.ie/event/adults-learn-to-kayak-mullingar/
LOCATION:Lough Owel\, Lough Owel\, Mullingar\, Westmeath\, Ireland
ATTACH;FMTTYPE=image/png:https://www.westmeathsports.ie/wp-content/uploads/2024/05/Adults-Learn-to-Kayak-1.png
ORGANIZER;CN="Westmeath Sports Partnership":MAILTO:info@westmeathsports.ie
END:VEVENT
BEGIN:VEVENT
DTSTART;TZID=Europe/Dublin:20240626T193000
DTEND;TZID=Europe/Dublin:20240703T203000
DTSTAMP:20260422T211254
CREATED:20240607T112456Z
LAST-MODIFIED:20240625T145404Z
UID:8067-1719430200-1720038600@www.westmeathsports.ie
SUMMARY:Activator Poles Exercise Programme For Adults
DESCRIPTION:Want to feel better and have some fun? Join our FREE Activator Poles exercise program! \n\n\n\nThis four-week program is perfect for adults looking to improve their balance\, strength\, and overall fitness in a social setting. \n\n\n\nHere’s what you’ll get: \n\n\n\n\nGentle exercise: Activator poles are a low-impact workout that’s easy on your joints.\n\n\n\nImproved fitness: You’ll see results in your balance\, strength\, and overall well-being.\n\n\n\nSocial fun: Meet new people and have a laugh while you get fit.\n\n\n\n\nThe program starts Wednesday\, June 12th at Kilbeggan Community Hall with registration taking place on the evening.  Spaces are limited so don’t miss out. \n\n\n\n\nFree to join\n\n\n\nBeginners welcome\n\n\n\nWednesdays from 7:30pm to 8:30pm\n\n\n\nKilbeggan Community Hall\n\n\n\n\nContact Cian.Fogarty@Westmeathcoco.ie  for more information!
URL:https://www.westmeathsports.ie/event/activator-poles-exercise-programme-for-adults/
LOCATION:Kilbeggan Community Hall\, St James's Hall\, Dublin Road\,\, KIlbeggan\, Westmeath\, Ireland
ATTACH;FMTTYPE=image/png:https://www.westmeathsports.ie/wp-content/uploads/2024/06/Copy-of-Activator-poles-template-.png
ORGANIZER;CN="Westmeath Sports Partnership":MAILTO:info@westmeathsports.ie
END:VEVENT
BEGIN:VEVENT
DTSTART;TZID=Europe/Dublin:20240701T190000
DTEND;TZID=Europe/Dublin:20240701T210000
DTSTAMP:20260422T211254
CREATED:20240522T123936Z
LAST-MODIFIED:20240625T145325Z
UID:8044-1719860400-1719867600@www.westmeathsports.ie
SUMMARY:Adults Learn To Kayak Athlone
DESCRIPTION:This 4-week Introduction to Kayaking Course for Adults will take place in Coosan Point\, Athlone\, from 7-9pm on Monday June 10\, 17\, 24 and July 01 between 7 and 9pm each evening. \n\n\n\nThis course is aimed at adults aged 18+ who want to learn kayaking and paddle skills in a relaxed\, social and inclusive environment. Participants who complete this course will gain the Canoe Ireland Level 1 in Kayaking Skills certification. \n\n\n\nCost of registration is €50 but participants will be refunded €5 per session attended (Refunded amounts will be distributed via the same method of payment at the conclusion of the programme. These courses have extremely high demand so this is to encourage those who are lucky enough to get a place\, to turn up the sessions)** \n\n\n\nYou do not need to be a strong swimmer to participate in this course but you should feel comfortable in water with a buoyancy aid. \n\n\n\nAs there will be limited changing facilities\, please wear swimwear under clothing on arrival. Wetsuits are available to use but if you have your own you can use this. All other safety equipment will also be provided including buoyancy aids\, helmets\, paddles etc. Please ensure you bring old footwear to wear into water\, a towel\, a drink and sun cream if sunny. \n\n\n\nMeeting point will be the Car Park at Coosan Point and all sessions will take place at Coosan Point\, unless notified otherwise by the instructor or Westmeath Sports Partnership. \n\n\n\n**If sessions are missed for legitimate reasons\, that is no problem\, just inform us. \n\n\n\nFor further queries\, contact cian.fogarty@westmeathcoco.ie or info@westmeathsports.ie \n\n\n\nRegister here: Adults Learn to Kayak – Athlone Tickets\, Mon 10 Jun 2024 at 19:00 | Eventbrite
URL:https://www.westmeathsports.ie/event/adults-learn-to-kayak-athlone/
LOCATION:Coosan Point\, Athlone\, Athlone\, Westmeath\, Ireland
ATTACH;FMTTYPE=image/png:https://www.westmeathsports.ie/wp-content/uploads/2024/05/Adults-Learn-to-Kayak-1.png
ORGANIZER;CN="Westmeath Sports Partnership":MAILTO:info@westmeathsports.ie
END:VEVENT
END:VCALENDAR