BEGIN:VCALENDAR
VERSION:2.0
PRODID:-//Westmeath Sports Partnership - ECPv6.2.3.1//NONSGML v1.0//EN
CALSCALE:GREGORIAN
METHOD:PUBLISH
X-WR-CALNAME:Westmeath Sports Partnership
X-ORIGINAL-URL:https://www.westmeathsports.ie
X-WR-CALDESC:Events for Westmeath Sports Partnership
REFRESH-INTERVAL;VALUE=DURATION:PT1H
X-Robots-Tag:noindex
X-PUBLISHED-TTL:PT1H
BEGIN:VTIMEZONE
TZID:Europe/Dublin
BEGIN:STANDARD
TZOFFSETFROM:+0000
TZOFFSETTO:+0100
TZNAME:IST
DTSTART:20240331T010000
END:STANDARD
BEGIN:DAYLIGHT
TZOFFSETFROM:+0100
TZOFFSETTO:+0000
TZNAME:GMT
DTSTART:20241027T010000
END:DAYLIGHT
END:VTIMEZONE
BEGIN:VEVENT
DTSTART;TZID=Europe/Dublin:20240304T000000
DTEND;TZID=Europe/Dublin:20240310T233000
DTSTAMP:20260425T222001
CREATED:20240228T123408Z
LAST-MODIFIED:20240228T124255Z
UID:7655-1709510400-1710113400@www.westmeathsports.ie
SUMMARY:Pitch and Putt! FREE Come and Try for Women!
DESCRIPTION:For this year’s Women in Sport Week\, Collinstown Pitch & Putt Club are allowing FREE access to play for all female players! \n\n\n\nFor any queries\, assistance or to borrow equipment\, please contact club chairman Liam on 0864667444. \n\n\n\nGrab your daughter\, sister\, mother\, niece\, aunty\, grandmother or female friends and come along anytime during daylight hours and play away! \n\n\n\nTo be in with a chance to win some prizes\, take a picture of you and your fellow players at the course\, post on Facebook or Instagram\, tagging @WestmeathSportsPartnership!
URL:https://www.westmeathsports.ie/event/pitchandputt-free-come-and-try-for-women/
LOCATION:Collinstown Pitch and Putt Club\, Castlepollard Road\, Collinstown\, Ireland
ORGANIZER;CN="Westmeath Sports Partnership":MAILTO:info@westmeathsports.ie
END:VEVENT
END:VCALENDAR