BEGIN:VCALENDAR
VERSION:2.0
PRODID:-//Westmeath Sports Partnership - ECPv6.2.3.1//NONSGML v1.0//EN
CALSCALE:GREGORIAN
METHOD:PUBLISH
X-WR-CALNAME:Westmeath Sports Partnership
X-ORIGINAL-URL:https://www.westmeathsports.ie
X-WR-CALDESC:Events for Westmeath Sports Partnership
REFRESH-INTERVAL;VALUE=DURATION:PT1H
X-Robots-Tag:noindex
X-PUBLISHED-TTL:PT1H
BEGIN:VTIMEZONE
TZID:Europe/Dublin
BEGIN:STANDARD
TZOFFSETFROM:+0000
TZOFFSETTO:+0100
TZNAME:IST
DTSTART:20240331T010000
END:STANDARD
BEGIN:DAYLIGHT
TZOFFSETFROM:+0100
TZOFFSETTO:+0000
TZNAME:GMT
DTSTART:20241027T010000
END:DAYLIGHT
END:VTIMEZONE
BEGIN:VEVENT
DTSTART;TZID=Europe/Dublin:20240822T190000
DTEND;TZID=Europe/Dublin:20240912T210000
DTSTAMP:20260425T125307
CREATED:20240807T090156Z
LAST-MODIFIED:20240807T150738Z
UID:8346-1724353200-1726174800@www.westmeathsports.ie
SUMMARY:Lads And Dads Kayaking - Mullingar
DESCRIPTION:This four-week introductory kayaking course for Lads & Dads will take place in Lough Owel\, Mullingar from 7.00pm – 9.00pm on Thursdays\, August 22nd\, 29th\, September 5th\, 12th \n\n\n\nThis course is for males aged 18+ who want to learn kayaking and paddle skills in a relaxed\, social and fun environment. The aim is for participants to be introduced to a new water-based activity within the beautiful outdoors\, while also gaining a Canoe Ireland Level One kayaking skills certification. \n\n\n\nCost of registration is €50 but participants will be refunded €5 per session attended. \n\n\n\n(Refunded amounts will be distributed via the same method of payment at the conclusion of the programme. These courses have extremely high demand so this is to encourage those who are lucky enough to get a place\, to turn up the sessions). \n\n\n\nYou do not need to be a strong swimmer to participate in this course but you should feel comfortable in water with a buoyancy aid. \n\n\n\nAs there will be limited changing facilities\, please wear swimwear under clothing on arrival. Wetsuits are available to use but if you have your own you can use this. All equipment provided including kayaks\, buoyancy aids\, helmets\, paddles etc. Please ensure you bring old footwear to wear into the water\, and a towel\, a drink and sun cream if sunny. \n\n\n\nMeeting point will be the Car Park at Lough Owel beside Mullingar Sailing Club and all sessions will take place here\, unless notified otherwise by the instructor or Westmeath Sports Partnership. \n\n\n\nThis course is kindly funded and supported by Healthy Ireland and Healthy Westmeath. Participants will be required to complete a short pre and post programme questionnaire to take part in this course. \n\n\n\nF or any further detail please contact cian.fogarty@westmeathcoco.ie
URL:https://www.westmeathsports.ie/event/lads-and-dads-kayaking-mullingar/
LOCATION:Lough Owel\, Lough Owel\, Mullingar\, Westmeath\, Ireland
ATTACH;FMTTYPE=image/png:https://www.westmeathsports.ie/wp-content/uploads/2024/08/Lads-and-dads-kayak-2024.png
ORGANIZER;CN="Westmeath Sports Partnership":MAILTO:info@westmeathsports.ie
END:VEVENT
BEGIN:VEVENT
DTSTART;TZID=Europe/Dublin:20240929T103000
DTEND;TZID=Europe/Dublin:20240929T113000
DTSTAMP:20260425T125307
CREATED:20240918T131116Z
LAST-MODIFIED:20240918T131121Z
UID:8549-1727605800-1727609400@www.westmeathsports.ie
SUMMARY:Boxercise In The Park
DESCRIPTION:Come and Try Outdoor Boxercise at Mullingar Town Park! \n\n\n\nAs part of this year’s European Week of Sport\, Westmeath Sports Partnership is offering a FREE Come and Try Outdoor Boxercise session for all at Mullingar Town Park. \n\n\n\nWhether you’re a beginner or experienced\, this event is perfect for anyone looking to try something new or get active in your local park for an hour! \n\n\n\n\nMullingar Town Park (beside pond\, opposite swimming pool)\n\n\n\nSunday September 29th\n\n\n\n10.30am – 11.30am\n\n\n\nFree\n\n\n\nOpen to All
URL:https://www.westmeathsports.ie/event/boxercise-in-the-park/
LOCATION:Mullingar Town Park\, Pearse Street\, Mullingar\, Westmeath\, Ireland
ATTACH;FMTTYPE=image/png:https://www.westmeathsports.ie/wp-content/uploads/2024/09/Boxercise.png
ORGANIZER;CN="Westmeath Sports Partnership":MAILTO:info@westmeathsports.ie
END:VEVENT
END:VCALENDAR