BEGIN:VCALENDAR
VERSION:2.0
PRODID:-//Westmeath Sports Partnership - ECPv6.2.3.1//NONSGML v1.0//EN
CALSCALE:GREGORIAN
METHOD:PUBLISH
X-WR-CALNAME:Westmeath Sports Partnership
X-ORIGINAL-URL:https://www.westmeathsports.ie
X-WR-CALDESC:Events for Westmeath Sports Partnership
REFRESH-INTERVAL;VALUE=DURATION:PT1H
X-Robots-Tag:noindex
X-PUBLISHED-TTL:PT1H
BEGIN:VTIMEZONE
TZID:Europe/Dublin
BEGIN:STANDARD
TZOFFSETFROM:+0000
TZOFFSETTO:+0100
TZNAME:IST
DTSTART:20240331T010000
END:STANDARD
BEGIN:DAYLIGHT
TZOFFSETFROM:+0100
TZOFFSETTO:+0000
TZNAME:GMT
DTSTART:20241027T010000
END:DAYLIGHT
END:VTIMEZONE
BEGIN:VEVENT
DTSTART;TZID=Europe/Dublin:20240514T110000
DTEND;TZID=Europe/Dublin:20240514T120000
DTSTAMP:20260425T183336
CREATED:20240509T082157Z
LAST-MODIFIED:20240509T082327Z
UID:7992-1715684400-1715688000@www.westmeathsports.ie
SUMMARY:Come And Try Yoga At Mullingar Library
DESCRIPTION:Come and Try Yoga at Mullingar Library! \nFor this year’s Bealtaine festival\, Westmeath Sports Partnership and Westmeath Libraries have joined forces to offer a FREE Come and Try Yoga session at your local library. \nWhether you’re a beginner or a seasoned yogi\, these events are perfect for anyone looking to unwind and stretch. \nMats will be provided\, so just bring yourself and an open mind. \nLet’s find our inner peace together. \nRegister for FREE here: Come and Try Yoga at Mullingar Library! Tickets\, Tue 14 May 2024 at 11:00 | Eventbrite
URL:https://www.westmeathsports.ie/event/come-and-try-yoga-at-mullingar-library-2/
LOCATION:Mullingar Library\, Áras an Chontae\, Mount Street\, Mullingar\, Westmeath\, N91 FH4N\, Ireland
ATTACH;FMTTYPE=image/png:https://www.westmeathsports.ie/wp-content/uploads/2024/05/Come-and-Try-Yoga-Mullingar-updated.png
ORGANIZER;CN="Westmeath Sports Partnership":MAILTO:info@westmeathsports.ie
END:VEVENT
BEGIN:VEVENT
DTSTART;TZID=Europe/Dublin:20240618T183000
DTEND;TZID=Europe/Dublin:20240618T203000
DTSTAMP:20260425T183336
CREATED:20240501T134601Z
LAST-MODIFIED:20240612T141623Z
UID:7980-1718735400-1718742600@www.westmeathsports.ie
SUMMARY:Social Cycling Programme For Adults - Mullingar
DESCRIPTION:This cycling programme\, led by Lakeside Wheelers Mullingar and supported by Westmeath Sports Partnership and Westmeath County Council\, is a perfect opportunity for adults to dust off the bikes\, get back on the saddle and come out cycling in this welcoming and supportive environment. \nGet ready to pedal your way to a healthier lifestyle while meeting some new people\, enjoying the fresh air and exploring the beautiful surroundings of the Lake County. \nWHEN: Tuesdays\, 6.30-8/8.30pm. \nWHERE: Meet at Old Rail Trail carpark. \nDATES:  June 18th  \nCOST: €15. \nESSENTIALS: Must have own roadworthy bike and helmet. \nAGE: Over 18s only. \nGeneral plan for programme:\nCarry out safety checks on participants helmets\, “M” safety check on everyone’s bike\, and explain what the plan is to do each evening. \nEvening 1: Cycle out to Ballina\, stop at the shop for refreshment etc. distance 10km. \nEvening 2-4 extend duration to Jack Stop for refreshment etc. distance 35km. \nEvery evening will be assessed based on participants fitness\, weather\, etc. \nRegister here: Social Cycling Programme for Adults with Lakeside Wheelers Mullingar! Registration\, Tue 21 May 2024 at 18:30 | Eventbrite
URL:https://www.westmeathsports.ie/event/social-cycling-programme-for-adults-mullingar/
LOCATION:Old Rail Trail Mullingar\, Old Rail Trail\, Mullingar\, Westmeath\, Ireland
ORGANIZER;CN="Westmeath Sports Partnership":MAILTO:info@westmeathsports.ie
END:VEVENT
END:VCALENDAR