BEGIN:VCALENDAR
VERSION:2.0
PRODID:-//Westmeath Sports Partnership - ECPv6.2.3.1//NONSGML v1.0//EN
CALSCALE:GREGORIAN
METHOD:PUBLISH
X-WR-CALNAME:Westmeath Sports Partnership
X-ORIGINAL-URL:https://www.westmeathsports.ie
X-WR-CALDESC:Events for Westmeath Sports Partnership
REFRESH-INTERVAL;VALUE=DURATION:PT1H
X-Robots-Tag:noindex
X-PUBLISHED-TTL:PT1H
BEGIN:VTIMEZONE
TZID:Europe/Dublin
BEGIN:STANDARD
TZOFFSETFROM:+0000
TZOFFSETTO:+0100
TZNAME:IST
DTSTART:20240331T010000
END:STANDARD
BEGIN:DAYLIGHT
TZOFFSETFROM:+0100
TZOFFSETTO:+0000
TZNAME:GMT
DTSTART:20241027T010000
END:DAYLIGHT
END:VTIMEZONE
BEGIN:VEVENT
DTSTART;TZID=Europe/Dublin:20240209T190000
DTEND;TZID=Europe/Dublin:20240209T203000
DTSTAMP:20260425T221614
CREATED:20240207T132210Z
LAST-MODIFIED:20240207T132210Z
UID:7475-1707505200-1707510600@www.westmeathsports.ie
SUMMARY:Operation Transformation: Mullingar
DESCRIPTION:Westmeath County Council  welcomes Operation Transformation to the beautiful Lake County. \nWe are proud to support our diverse communities by providing opportunities for healthy living\, sporting and physical activities. \nWestmeath\, in the centre of Ireland’s Hidden Heartlands\, is the ideal destination for outdoor activity and adventure with nearly 100km of scenic greenways\, along with woodland walks and our wonderful lakes. \nEach week the five leaders will have their Health Check-In at St James’s Hall in Kilbeggan. \nIn partnership with Westmeath County Council\, the county will host seven weekly Ad Break Challenges where Karl Henry gets groups from across the county moving\, as well as the audience at home.   \nThe seventh and final Ad Break Challenge will take place on Friday 9 February 2024 at 7.00pm at the Joe Dolan statue  in the heart of Mullingar town.
URL:https://www.westmeathsports.ie/event/operation-transformation-mullingar/
LOCATION:Mullingar
ATTACH;FMTTYPE=image/jpeg:https://www.westmeathsports.ie/wp-content/uploads/2024/02/AD-BREAK-Instagram-JOE-DOLAN-scaled.jpg
END:VEVENT
BEGIN:VEVENT
DTSTART;TZID=Europe/Dublin:20240220T150000
DTEND;TZID=Europe/Dublin:20240220T200000
DTSTAMP:20260425T221614
CREATED:20240214T154059Z
LAST-MODIFIED:20240214T155141Z
UID:7512-1708441200-1708459200@www.westmeathsports.ie
SUMMARY:Public Consultation On New Mullingar Regional Sports Complex
DESCRIPTION:We want to hear from YOU! \nWestmeath County Council plan to develop a Regional Sports Complex in Mullingar.  It is envisaged that the complex cater for a wide range of mainstream and developing sports in the region and be inclusive for the whole community. \nBut we need your support. \nThe Local Authority is keen to engage with everyone to ascertain your views on the need to develop a Mullingar Regional Sport Complex. This early engagement will help shape design options\, which will then be subject to further public consultation in the coming months. \n#HAVEYOURSAY and meet members of the Design Team and Regeneration Project Team to discuss the proposed project at an our in-person consultation event on Tuesday 20th  from 3pm to 8pm in the Atrium of Council Offices\, Áras An Chontae\, Mount Street\, Mullingar\, Co. Westmeath. \nA Sport Needs Assessment survey is also now live to capture the sporting needs of clubs\, schools\, communities\, and individuals in the region to inform the final design until Tuesday 27th February. \nYou’ll find the survey\, which will take around 5 minutes to complete here: \nhttps://consult.westmeathcoco.ie/en/surveys \nHard copies of the sport needs assessment survey can be requested from the Regeneration Project Team: \n\nTelephone 044 9338927\nEmail regen@westmeathcoco.ie\n\nHard copies of the sport needs assessment survey should be returned no later than Tuesday 27th February 2024 to the Regeneration Project Team\, Westmeath County Council\, Áras An Chontae\, Mount Street\, Mullingar\, Co. Westmeath\, N91 FH4N
URL:https://www.westmeathsports.ie/event/public-consultation-on-new-mullingar-regional-sports-complex/
LOCATION:Westmeath County Council\, Mullingar
ATTACH;FMTTYPE=image/png:https://www.westmeathsports.ie/wp-content/uploads/2024/02/Mullingar-RSC-edit.png
ORGANIZER;CN="Westmeath County Council":MAILTO:regen@westmeathcoco.ie
END:VEVENT
BEGIN:VEVENT
DTSTART;TZID=Europe/Dublin:20240221T150000
DTEND;TZID=Europe/Dublin:20240221T200000
DTSTAMP:20260425T221614
CREATED:20240214T154913Z
LAST-MODIFIED:20240214T154913Z
UID:7515-1708527600-1708545600@www.westmeathsports.ie
SUMMARY:Public consultation on New Mullingar Regional Sports Complex
DESCRIPTION:We want to hear from YOU! \nWestmeath County Council plan to develop a Regional Sports Complex in Mullingar.  It is envisaged that the complex cater for a wide range of mainstream and developing sports in the region and be inclusive for the whole community. \nBut we need your support. \nThe Local Authority is keen to engage with everyone to ascertain your views on the need to develop a Mullingar Regional Sport Complex. This early engagement will help shape design options\, which will then be subject to further public consultation in the coming months. \n#HAVEYOURSAY and meet members of the Design Team and Regeneration Project Team to discuss the proposed project at an our in-person consultation event on Wednesday 21st  from 3pm to 8pm in the Atrium of Council Offices\, Áras An Chontae\, Mount Street\, Mullingar\, Co. Westmeath. \nA Sport Needs Assessment survey is also now live to capture the sporting needs of clubs\, schools\, communities\, and individuals in the region to inform the final design until Tuesday 27th February. \nYou’ll find the survey\, which will take around 5 minutes to complete here: \nhttps://consult.westmeathcoco.ie/en/surveys \nHard copies of the sport needs assessment survey can be requested from the Regeneration Project Team: \n\nTelephone 044 9338927\nEmail regen@westmeathcoco.ie\n\nHard copies of the sport needs assessment survey should be returned no later than Tuesday 27th February 2024 to the Regeneration Project Team\, Westmeath County Council\, Áras An Chontae\, Mount Street\, Mullingar\, Co. Westmeath\, N91 FH4N
URL:https://www.westmeathsports.ie/event/public-consultation-on-new-mullingar-regional-sports-complex-2/
LOCATION:Westmeath County Council\, Mullingar
ATTACH;FMTTYPE=image/png:https://www.westmeathsports.ie/wp-content/uploads/2024/02/Mullingar-RSC-edit.png
ORGANIZER;CN="Westmeath County Council":MAILTO:regen@westmeathcoco.ie
END:VEVENT
END:VCALENDAR