BEGIN:VCALENDAR
VERSION:2.0
PRODID:-//Westmeath Sports Partnership - ECPv6.2.3.1//NONSGML v1.0//EN
CALSCALE:GREGORIAN
METHOD:PUBLISH
X-WR-CALNAME:Westmeath Sports Partnership
X-ORIGINAL-URL:https://www.westmeathsports.ie
X-WR-CALDESC:Events for Westmeath Sports Partnership
REFRESH-INTERVAL;VALUE=DURATION:PT1H
X-Robots-Tag:noindex
X-PUBLISHED-TTL:PT1H
BEGIN:VTIMEZONE
TZID:Europe/Dublin
BEGIN:STANDARD
TZOFFSETFROM:+0000
TZOFFSETTO:+0100
TZNAME:IST
DTSTART:20240331T010000
END:STANDARD
BEGIN:DAYLIGHT
TZOFFSETFROM:+0100
TZOFFSETTO:+0000
TZNAME:GMT
DTSTART:20241027T010000
END:DAYLIGHT
END:VTIMEZONE
BEGIN:VEVENT
DTSTART;VALUE=DATE:20240430
DTEND;VALUE=DATE:20240501
DTSTAMP:20260425T225547
CREATED:20240416T091628Z
LAST-MODIFIED:20240418T081930Z
UID:7865-1714435200-1714521599@www.westmeathsports.ie
SUMMARY:Pitch And Putt For Adults At Collinstown P&P Club
DESCRIPTION:Westmeath Sports Partnership is delighted to offer an opportunity for adults over the age of 40 to try Pitch And Putt in a relaxed and fun setting.  \nWe are offering a special six-week introductory programme for people to learn the basics of this fun and easy to learn sport at Collinstown Pitch and Putt Club. \nThe programme begins on April 30th and will continue on Tuesdays under the guidance of experienced and skilled members of Collinstown Pitch and Putt Club. \nWe can offer two different time sessions depending on the majority preference: 11am – 12pm or 6 – 7pm (choose one preference in registration). \nSessions will involve learning some skills followed by practicing some holes. \nThe good news is there is equipment that can be borrowed if you do not own your own equipment (clubs\, balls\, tees). \nWe are also offering tea/coffee/refreshments available after each session in clubhouse. \nThe six week programme costs €20 and you can register at the link: \nhttps://www.eventbrite.ie/e/pitch-and-putt-for-adults-in-collinstown-pp-club-registration-881936474737?aff=oddtdtcreator
URL:https://www.westmeathsports.ie/event/pitch-and-putt-for-adults-at-collinstown-pp-club/
LOCATION:Collinstown Pitch and Putt Club\, Castlepollard Road\, Collinstown\, Ireland
ATTACH;FMTTYPE=image/jpeg:https://www.westmeathsports.ie/wp-content/uploads/2024/04/pp-v4.jpg
ORGANIZER;CN="Westmeath Sports Partnership":MAILTO:info@westmeathsports.ie
END:VEVENT
END:VCALENDAR