BEGIN:VCALENDAR
VERSION:2.0
PRODID:-//Westmeath Sports Partnership - ECPv6.2.3.1//NONSGML v1.0//EN
CALSCALE:GREGORIAN
METHOD:PUBLISH
X-WR-CALNAME:Westmeath Sports Partnership
X-ORIGINAL-URL:https://www.westmeathsports.ie
X-WR-CALDESC:Events for Westmeath Sports Partnership
REFRESH-INTERVAL;VALUE=DURATION:PT1H
X-Robots-Tag:noindex
X-PUBLISHED-TTL:PT1H
BEGIN:VTIMEZONE
TZID:Europe/Dublin
BEGIN:STANDARD
TZOFFSETFROM:+0000
TZOFFSETTO:+0100
TZNAME:IST
DTSTART:20250330T010000
END:STANDARD
BEGIN:DAYLIGHT
TZOFFSETFROM:+0100
TZOFFSETTO:+0000
TZNAME:GMT
DTSTART:20251026T010000
END:DAYLIGHT
END:VTIMEZONE
BEGIN:VEVENT
DTSTART;TZID=Europe/Dublin:20250801T080000
DTEND;TZID=Europe/Dublin:20250831T200000
DTSTAMP:20260421T182811
CREATED:20250819T122119Z
LAST-MODIFIED:20250819T122122Z
UID:10102-1754035200-1756670400@www.westmeathsports.ie
SUMMARY:August MapRun Challenge
DESCRIPTION:A Perfect Outdoor Adventure\n\n\n\nWould you like to try something different this August? Fancy exploring Westmeath in a whole new way? We’re delighted to announce our first-ever Orienteering MapRun Challenge\, and it’s just the ticket for some August adventures. \n\n\n\nIn case you didn’t know\, orienteering is a brilliant way to get out and about\, have fun\, and really get to know some of the most beautiful and unique areas of County Westmeath. It’s a challenge that’s a bit different\, gets the brain working\, and the legs moving! \n\n\n\nA Challenge For All Ages And Abilities\n\n\n\nOrienteering isn’t just about running; it’s about navigating\, exploring\, and having a good old time in the fresh air so it’s suitable for parents and children. Also\, the great thing about this challenge is that you can do it in several locations across the county. \n\n\n\n\nMullingar Town Park\n\n\n\nDún na Sí Amenity Park Moate\n\n\n\nAthlone Regional Sports Centre\n\n\n\nBurgess Park\n\n\n\nEach spot offers something unique\, so you’ll be seeing your local area with new eyes\n\n\n\n\nWhat Do You Have To Do\n\n\n\nAll the courses are completely FREE and accessible via the MapRun application. Just download it from your app store ( Google or Apple)\, set up your profile\, and you’re good to go. There is an explainer on how to use MapRun further down this page. \n\n\n\nYou can choose from test\, short\, medium\, or long\, and even accessible routes and you can attempt them as many times as you like\, at whatever pace suits you! \n\n\n\nOoh\, Prizes!\n\n\n\nAh\, now we’re talking! Who doesn’t love a good prize? \n\n\n\nThere are prizes available for four lucky winners (each prize will include a Westmeath Sports Partnership Goodie Bags with 10 items plus a €50 voucher). \n\n\n\nThe winner will be selected at random but remember\, the more courses completed = more entries = more chances of winning! \n\n\n\nTo be in with a chance of winning some cracking goodies\, simply submit proof (screenshots) of your attempted MapRun courses via the special form which is available here. \n\n\n\nYou can also find the submission form by scanning the QR code on the poster! \n\n\n\nTo access your completed courses:\n\n\n\n\nOpen the MapRun app on your mobile device\n\n\n\nTap ‘Show Results’ down the bottom\n\n\n\nTap on each result and then take a screenshot of the resulting image\n\n\n\n\nYou can find more information about orienteering and Maprun on our parent Orienteering page at this link. \n\n\n\nFull Terms and condition are available to view by clicking this link.
URL:https://www.westmeathsports.ie/event/august-maprun-challenge/
LOCATION:Westmeath
ATTACH;FMTTYPE=image/png:https://www.westmeathsports.ie/wp-content/uploads/2025/07/physical-poster.png
ORGANIZER;CN="Westmeath Sports Partnership":MAILTO:info@westmeathsports.ie
END:VEVENT
BEGIN:VEVENT
DTSTART;TZID=Europe/Dublin:20250811T080000
DTEND;TZID=Europe/Dublin:20250817T210000
DTSTAMP:20260421T182811
CREATED:20250731T143308Z
LAST-MODIFIED:20250731T183613Z
UID:10069-1754899200-1755464400@www.westmeathsports.ie
SUMMARY:HER Outdoors Week 2025 - Full Schedule
DESCRIPTION:#EmbraceYourSpace\n\n\n\nGet ready to #FindYourOutdoors and embrace the fresh air and celebrate “Her Outdoors Week 2025” with Westmeath Sports Partnership!  \n\n\n\nFrom August 11th to 17th\, join us for an incredible array of activities designed to get you active and enjoying the very many wonderful amenities and facilities available all across County Westmeath.  \n\n\n\nFor further information and registration details\, scroll down through our full list of events below: \n\n\n\nTuesday\n\n\n\n\nActivity: Come & Try Pétanque \n\n\n\nWhere: Athlone Regional Sports Centre \n\n\n\nTime: 10.00am – 11.00am \n\n\n\nAge: Open to all \n\n\n\nCost: FREE \n\n\n\nRegister: Email Joanne at RSC joanne@athlonersc.ie \n\n\n\n\n\n\n\n\n \n\n\n\n\nActivity: Social Walking \n\n\n\nWhere: Castletown Geoghegan GAA Grounds \n\n\n\nTime: 10.00am – 11.00am \n\n\n\nAge: Open to all \n\n\n\nCost: FREE \n\n\n\nRegister: Email Michéle Kirby at Community Sports Hub ctg@communityhub@gmail.com \n\n\n\n\n\n\n\n\n\nActivity: Come & Try Orienteering  \n\n\n\nWhere: Athlone Regional Sports Centre \n\n\n\nTime: 6.00pm – 7.30pm \n\n\n\nAge: Open to all \n\n\n\nCost: €5 per group/registration \n\n\n\nRegister: You can register for the orienteering at the link here  \n\n\n\n\n\n\n\n\n\n\n\n\nWednesday\n\n\n\n\nActivity: Social Walking  \n\n\n\nWhere: Athlone Regional Sports Centre \n\n\n\nTime: 10.00am – 11.00am \n\n\n\nAge: Open to all \n\n\n\nCost: FREE \n\n\n\nRegister: Email Joanne at RSC joanne@athlonersc.ie \n\n\n\n\n\n\n\n\n\nActivity: Come & Try Pickleball \n\n\n\nWhere: Athlone Regional Sports Centre \n\n\n\nTime: 11.00am – 12.00pm \n\n\n\nAge: Open to all \n\n\n\nCost: FREE \n\n\n\nRegister: Email Joanne at RSC joanne@athlonersc.ie \n\n\n\n\n\n\n\n\n\nActivity: Come & Try Activator Poles \n\n\n\nWhere: Athlone Regional Sports Centre \n\n\n\nTime: 6.00pm – 7.00pm \n\n\n\nAge: Open to all \n\n\n\nCost: FREE \n\n\n\nRegister: Email Joanne at RSC joanne@athlonersc.ie \n\n\n\n\n\n\n\n\n\nActivity: Come & Try Try Orienteering  \n\n\n\nWhere: Dún na Sí\, Moate \n\n\n\nTime: 6.00pm – 7.30pm \n\n\n\nAge: Open to all \n\n\n\nCost: €5 per group/registration \n\n\n\nRegister: You can register for the orienteering at the link here  \n\n\n\n\n\n\n\n\n\n\n\n\nThursday\n\n\n\n\nActivity: Yoga In The Park \n\n\n\nWhere: Dún na Sí\, Moate \n\n\n\nTime: 6.00pm – 6.50pm \n\n\n\nAge: Open to all \n\n\n\nCost: FREE \n\n\n\nRegister: You can register for the yoga at the link here  \n\n\n\n\n\n\n\n\n\nActivity: Tai Chi In The Park \n\n\n\nWhere: Dún na Sí\, Moate \n\n\n\nTime: 7.00pm – 7.50pm \n\n\n\nAge: Open to all \n\n\n\nCost: FREE \n\n\n\nRegister: You can register for the Tai Chi at the link here  \n\n\n\n\n\n\n\n\n\nActivity: Boxercise In The Park \n\n\n\nWhere: Mullingar Town Park \n\n\n\nTime: 7.00pm – 8.00pm \n\n\n\nAge: Open to all \n\n\n\nCost: FREE \n\n\n\nRegister: You can register for the Boxercise at the link here  \n\n\n\n\n\n\n\n\n\nActivity: Come & Try Social Camogie \n\n\n\nWhere: Castletown Geoghegan GAA Grounds \n\n\n\nTime: 8.00pm – 9.00pm \n\n\n\nAge: Open to all \n\n\n\nCost: FREE \n\n\n\nRegister: Email Michéle Kirby at community Sports Hub ctg@communityhub@gmail.com \n\n\n\n\n\n\n\n\n\n\n\n\nFriday\n\n\n\n\nActivity: Yoga In The Park \n\n\n\nWhere: Mullingar Town Park \n\n\n\nTime: 6.00pm – 6.50pm \n\n\n\nAge: Open to all \n\n\n\nCost: FREE \n\n\n\nRegister: You can register for the yoga at the link here  \n\n\n\n\n\n\n\n\n\nActivity: Tai Chi In The Park \n\n\n\nWhere: Mullingar Town Park \n\n\n\nTime: 7.00pm – 7.50pm \n\n\n\nAge: Open to all \n\n\n\nCost: FREE \n\n\n\nRegister: You can register for the Tai Chi at the link here  \n\n\n\n\n\n\n\n\nSunday\n\n\n\n\nActivity: Boxercise In The Park \n\n\n\nWhere: Mullingar Town Park \n\n\n\nTime: 10.30am – 11.30am \n\n\n\nAge: Open to all \n\n\n\nCost: FREE \n\n\n\nRegister: You can register for the Boxercise at the link here  \n\n\n\n\n\n\n\n\n\nActivity: Nancy – Nellie Trail Walk \n\n\n\nWhere: Fore Abbey \n\n\n\nTime: 12.00pm – 1.00pm \n\n\n\nAge: Open to all \n\n\n\nCost: FREE \n\n\n\nRegister: You can register for the Nancy – Nellie Walk at the link here  \n\n\n\n\n\n\n\n\n\nActivity: Come & Try Mountain Biking \n\n\n\nWhere: Mullaghmeen Forest \n\n\n\nTime: 11.00am – 1.00pm and 12.30pm – 1.30pm  \n\n\n\nAge: Suitable for all abilities\, no experience necessary. 14 years +\, all teens must be accompanied by an adult. \n\n\n\nCost: €15 per person \n\n\n\nRegister: You can register for the 11.00am – 12.00pm session here \n\n\n\nYou can register for the 12.30pm – 1.30pm session here \n\n\n\n\n\n\n\n\n\n\n\n\nTuesday August 19\n\n\n\n\nActivity: Come & Try Stand Up Paddleboarding Yoga \n\n\n\nWhere: Lough Ennell \n\n\n\nTime: 6.30pm – 8.00pm  \n\n\n\nAge: Open to all \n\n\n\nCost: €15 per person \n\n\n\nRegister: You can register for the paddleboarding yoga at this link \n\n\n\n\nContact us\n\n\n\nFor more information please email info@westmeathsports.ie or call 044-9390208.
URL:https://www.westmeathsports.ie/event/her-outdoors-week-2025-full-schedule/
LOCATION:Westmeath
ATTACH;FMTTYPE=image/png:https://www.westmeathsports.ie/wp-content/uploads/2025/07/WSP-Cover-image.png
END:VEVENT
END:VCALENDAR