BEGIN:VCALENDAR
VERSION:2.0
PRODID:-//Westmeath Sports Partnership - ECPv6.2.3.1//NONSGML v1.0//EN
CALSCALE:GREGORIAN
METHOD:PUBLISH
X-WR-CALNAME:Westmeath Sports Partnership
X-ORIGINAL-URL:https://www.westmeathsports.ie
X-WR-CALDESC:Events for Westmeath Sports Partnership
REFRESH-INTERVAL;VALUE=DURATION:PT1H
X-Robots-Tag:noindex
X-PUBLISHED-TTL:PT1H
BEGIN:VTIMEZONE
TZID:Europe/Dublin
BEGIN:STANDARD
TZOFFSETFROM:+0000
TZOFFSETTO:+0100
TZNAME:IST
DTSTART:20230326T010000
END:STANDARD
BEGIN:DAYLIGHT
TZOFFSETFROM:+0100
TZOFFSETTO:+0000
TZNAME:GMT
DTSTART:20231029T010000
END:DAYLIGHT
END:VTIMEZONE
BEGIN:VEVENT
DTSTART;TZID=Europe/Dublin:20231027T183000
DTEND;TZID=Europe/Dublin:20231027T213000
DTSTAMP:20260422T085333
CREATED:20231011T194845Z
LAST-MODIFIED:20231012T110550Z
UID:6545-1698431400-1698442200@www.westmeathsports.ie
SUMMARY:Safeguarding 1 - Child Welfare & Protection Basic Awareness Workshop
DESCRIPTION:Safeguarding 1 –  Child Welfare & Protection Basic Awareness\nAll Coaches\, Club Children’s Officers (CCO) and Designated Liaison Persons (DLP) must first complete the 3 hour Child Welfare & Protection Basic Awareness Workshop.  \nThis workshop educates participants on the implementation of best practice in safeguarding the welfare of children involved in sport \nThe online Safeguarding 1 Workshop is an interactive course which requires participants to have : \n\nGood internet connection to allow you to have a video / take part in group discussion\nAccess to email – Zoom link and course materials will be sent out to participants prior to course date in word and PDF.\n\n\nTo gain accreditation\, it is essential to complete the whole course\n\nPlease beware : \n\nThis course is for Over 18’s ONLY – MAXIMUM 2 persons per club/sports organisation\n\n\nEach participant must have their own individual Zoom connection. Sharing connections is not an acceptable method of participating.\n\nThe online course will be delivered between 6.30pm -9.30pm via zoom. \nCertificates of completion will be issued by post and participant details are subsequently registered with Sport Ireland’s National Database. \nShould you require any further information on accessing the online safeguarding course feel free to contact Westmeath Sports Partnership on 044 93 90208 or email info@westmeathsports.ie \nRegister via Eventbrite
URL:https://www.westmeathsports.ie/event/safeguarding-1-child-welfare-protection-basic-awareness-workshop/
LOCATION:Online
ORGANIZER;CN="Westmeath Sports Partnership":MAILTO:info@westmeathsports.ie
END:VEVENT
BEGIN:VEVENT
DTSTART;TZID=Europe/Dublin:20231023T133000
DTEND;TZID=Europe/Dublin:20231023T163000
DTSTAMP:20260422T085333
CREATED:20231011T194609Z
LAST-MODIFIED:20231011T194609Z
UID:6541-1698067800-1698078600@www.westmeathsports.ie
SUMMARY:Introduction to Olympic Handball for 5th and 6th class Teachers
DESCRIPTION:Introduction to Olympic Handball for 5th and 6th class teachers \nIrish Olympic Handball Association supported by Westmeath Sports Partnership are delivering a Coaching course for teachers of 5th and 6th class students \nThis course is free to attend. \nCoaching Course includes- \n3hrs- Rules of game\, technique: pass\, reception\, jumping\, shooting\, steps\, Introduction games and practical elements. \nPlease dress in comfortable clothing/sports gear for practical elements. \nStarter pack provided to each organisation \nDate- Monday 23rd of October \nTime-1.30p.m- 4.30p.m \nVenue- Clonkill Gaa Club \nMax two teachers per school \nTournament for all participating schools on Thursday 7th of December for 5th and 6th class pupils. \n  \nRegister on Eventbrite
URL:https://www.westmeathsports.ie/event/introduction-to-olympic-handball-for-5th-and-6th-class-teachers/
LOCATION:Clonkill GAA Club\, Clonkill\, Mullingar\, Co. Westmeath\, N91 HX78\, Ireland
ATTACH;FMTTYPE=image/jpeg:https://www.westmeathsports.ie/wp-content/uploads/2023/10/olympic-handball.jpeg
END:VEVENT
BEGIN:VEVENT
DTSTART;TZID=Europe/Dublin:20231019T120000
DTEND;TZID=Europe/Dublin:20231019T130000
DTSTAMP:20260422T085333
CREATED:20231010T140144Z
LAST-MODIFIED:20231010T140144Z
UID:6477-1697716800-1697720400@www.westmeathsports.ie
SUMMARY:Indoor Activator Poles Ballymore
DESCRIPTION:Indoor Activator Poles Ballymore \nA six week programme starting Thursday 19th of October \nWhere- Ballymore Community Centre \nWhen- Every Thursday for 6 weeks \nTime- 12:00- 13.00p.m \nOpen to all ability levels \nThe course is free as it is kindly funded and supported by Healthy Ireland and Healthy Westmeath. (participants will be required to complete a short pre and post programme questionnaire regarding their physical activity levels). Pre Questionnaire is built into registration. \n  \nRegister your place via Eventbrite
URL:https://www.westmeathsports.ie/event/indoor-activator-poles-ballymore/
LOCATION:Ballymore community centre
ATTACH;FMTTYPE=image/jpeg:https://www.westmeathsports.ie/wp-content/uploads/2023/10/indoor-activity-poles-ballymore.jpeg
END:VEVENT
BEGIN:VEVENT
DTSTART;TZID=Europe/Dublin:20231012T080000
DTEND;TZID=Europe/Dublin:20231012T170000
DTSTAMP:20260422T085333
CREATED:20231012T105518Z
LAST-MODIFIED:20231012T105518Z
UID:6561-1697097600-1697130000@www.westmeathsports.ie
SUMMARY:good2Go Training - Loughegar
DESCRIPTION:Good2GO! WESTMEATH is designed to enable attendees’ plan and lead periods of sociable\, health-enhancing physical activity for older adults and adults with a disability.\n \nIt is suitable for: Active Age Groups\, Men’s Sheds\, Care Providers and Disability Service Providers. \n \nGood2Go! classes will take place  Loughegar Community Hall – Clonkill GAA Club. \n \nThe workshops are three hours in duration from 10am until 1pm. \n \nThe classes will include training on the following activities: \n \nShort slots for Fitness explores short movement routines designed to enhance key components of functional fitness including mobility\, flexibility\, balance\, strength and aerobic fitness. This will include seated routines. \n \nStep to the Beat explores a series of short\, simple\, social folk dance from different parts of the world. Easy to learn-easy to teach. \n \nSocial target Games explores a number of simple\, sociable\, target games suitable for indoor venues ( e.g. Frisbee\, Scooch\, Boccia\, Flisk). \n \nAttendee’s must be able to attend all 3 workshops. Light Refreshments will be provided on each day / Please wear suitable footwear and comfortable/sports clothing. \n \nA tea break will be provided during the workshop. \n \nThe course is free as it is kindly funded and supported by Healthy Ireland and Healthy Westmeath. (Participants will be required to complete a short pre and post-programme questionnaire regarding their physical activity levels). The pre questionnaire is built into registration. \n\nAll 3 workshops will be held in Loughegar Community Hall (Clonkill GAA Club) on the 22th\, 29th November and 06th December from 10a.m sharp to 1.00p.m. \n \nA tea break will be provided during each workshop. \n \nRegister for Loughegar here \n 
URL:https://www.westmeathsports.ie/event/good2go-training-loughegar/
END:VEVENT
BEGIN:VEVENT
DTSTART;VALUE=DATE:20230319
DTEND;VALUE=DATE:20230320
DTSTAMP:20260422T085333
CREATED:20230314T094911Z
LAST-MODIFIED:20230314T094911Z
UID:4757-1679184000-1679270399@www.westmeathsports.ie
SUMMARY:This is a test
DESCRIPTION:This is a test
URL:https://www.westmeathsports.ie/event/this-is-a-test/
LOCATION:This is a test\, This is a test\, This is a test
ATTACH;FMTTYPE=image/jpeg:https://www.westmeathsports.ie/wp-content/uploads/2023/01/SI-logo-low-res.jpg
ORGANIZER;CN="This is a test":MAILTO:This is a test
END:VEVENT
END:VCALENDAR