BEGIN:VCALENDAR
VERSION:2.0
PRODID:-//Westmeath Sports Partnership - ECPv6.2.3.1//NONSGML v1.0//EN
CALSCALE:GREGORIAN
METHOD:PUBLISH
X-ORIGINAL-URL:https://www.westmeathsports.ie
X-WR-CALDESC:Events for Westmeath Sports Partnership
REFRESH-INTERVAL;VALUE=DURATION:PT1H
X-Robots-Tag:noindex
X-PUBLISHED-TTL:PT1H
BEGIN:VTIMEZONE
TZID:Europe/Dublin
BEGIN:STANDARD
TZOFFSETFROM:+0000
TZOFFSETTO:+0100
TZNAME:IST
DTSTART:20250330T010000
END:STANDARD
BEGIN:DAYLIGHT
TZOFFSETFROM:+0100
TZOFFSETTO:+0000
TZNAME:GMT
DTSTART:20251026T010000
END:DAYLIGHT
END:VTIMEZONE
BEGIN:VEVENT
DTSTART;TZID=Europe/Dublin:20250904T110000
DTEND;TZID=Europe/Dublin:20251010T200000
DTSTAMP:20260421T182840
CREATED:20250828T141618Z
LAST-MODIFIED:20250828T141620Z
UID:10163-1756983600-1760126400@www.westmeathsports.ie
SUMMARY:Pilates at CTG Community Hub
DESCRIPTION:Pilates classes are coming to Castletown Geoghegan! \n\n\n\nGet fit and relax as part of new programme starting in Castletown Geoghegan Sports Hub in September. \n\n\n\n\nWomen only classes are starting on Thursday September 04 from 11.00am – 12.00pm\n\n\n\n\n\nMixed classes take place on Fridays starting September 05 from 7.00pm – 8.00pm\n\n\n\n\nThe six-week programme costs €48 and if you’re interested you can contact Michéle for more info. \n\n\n\nYou can email Michele at ctgcommunityhub@gmail.com or call 0863211725
URL:https://www.westmeathsports.ie/event/pilates-at-ctg-community-hub/
LOCATION:Castletown Geoghegan Community Hub\, R389\, Castletown\, Castletown Geoghegan\, Co. Westmeath\, Castletown Geoghegan\, N91 ARN8\, Ireland
ATTACH;FMTTYPE=image/png:https://www.westmeathsports.ie/wp-content/uploads/2025/08/CTG-pilates-FCB.png
ORGANIZER;CN="Castletown Geoghegan Community Sports Hub":MAILTO:ctgcommunityhub@gmail.com
END:VEVENT
END:VCALENDAR