BEGIN:VCALENDAR
VERSION:2.0
PRODID:-//Westmeath Sports Partnership - ECPv6.2.3.1//NONSGML v1.0//EN
CALSCALE:GREGORIAN
METHOD:PUBLISH
X-ORIGINAL-URL:https://www.westmeathsports.ie
X-WR-CALDESC:Events for Westmeath Sports Partnership
REFRESH-INTERVAL;VALUE=DURATION:PT1H
X-Robots-Tag:noindex
X-PUBLISHED-TTL:PT1H
BEGIN:VTIMEZONE
TZID:Europe/Dublin
BEGIN:STANDARD
TZOFFSETFROM:+0000
TZOFFSETTO:+0100
TZNAME:IST
DTSTART:20250330T010000
END:STANDARD
BEGIN:DAYLIGHT
TZOFFSETFROM:+0100
TZOFFSETTO:+0000
TZNAME:GMT
DTSTART:20251026T010000
END:DAYLIGHT
END:VTIMEZONE
BEGIN:VEVENT
DTSTART;TZID=Europe/Dublin:20250701T190000
DTEND;TZID=Europe/Dublin:20250722T210000
DTSTAMP:20260421T210314
CREATED:20250605T142611Z
LAST-MODIFIED:20250625T150213Z
UID:9594-1751396400-1753218000@www.westmeathsports.ie
SUMMARY:Lads on the Lake - Athlone
DESCRIPTION:Tickets are selling quick!\n\n\n\nThis four-week Lads on the Lake introductory kayaking course will take place at Coosan Point from 7.00 – 9.00pm on Tuesdays July 1\, 8\, 15\, 22. \n\n\n\nThis course is aimed at males aged 18+ who want to learn kayaking and paddle skills in a relaxed\, social and inclusive environment. Participants who complete this course will gain the Canoe Ireland Level 1 in Kayaking Skills certification. \n\n\n\nCost of registration is €50 but participants will be refunded €5 per session attended (**see below) \n\n\n\nYou do not need to be a strong swimmer to participate in this course but you should feel comfortable in water with a buoyancy aid. \n\n\n\nAs there will be limited changing facilities\, we advise arriving as ready to go as possible. Wetsuits are available to use but if you have your own you can use this. All other safety equipment will also be provided including buoyancy aids\, helmets\, paddles etc. Please ensure you bring old footwear to wear into the water\, a towel\, a drink and sun cream if sunny. \n\n\n\nMeeting point will be the Car Park at Coosan Point. If there is a location change\, you will be notified via the instructor or Westmeath Sports Partnership. Sessions may be postponed if there are adverse weather conditions and if this happens you will be notified\, and we will endevour to rearrange. \n\n\n\n** Refunded amounts will be distributed via the same method of payment at the conclusion of the programme. These courses have extremely high demand so this is to encourage those who are lucky enough to get a place\, to turn up the sessions. If a session is missed for a legitimate reason that is no problem at all\, just let us know. \n\n\n\nFor further queries\, contact cian.fogarty@westmeathcoco.ie
URL:https://www.westmeathsports.ie/event/lads-on-the-lake-athlone/
LOCATION:Coosan Point\, Athlone\, Athlone\, Westmeath\, Ireland
ATTACH;FMTTYPE=image/png:https://www.westmeathsports.ie/wp-content/uploads/2025/06/Lads-on-the-Lake.png
ORGANIZER;CN="Westmeath Sports Partnership":MAILTO:info@westmeathsports.ie
END:VEVENT
BEGIN:VEVENT
DTSTART;TZID=Europe/Dublin:20250703T190000
DTEND;TZID=Europe/Dublin:20250724T210000
DTSTAMP:20260421T210315
CREATED:20250605T144816Z
LAST-MODIFIED:20250625T135757Z
UID:9597-1751569200-1753390800@www.westmeathsports.ie
SUMMARY:Lads on the Lake - Mullingar
DESCRIPTION:This Programme Is Now SOLD OUT!\n\n\n\nThis four-week Lads on the Lake introductory kayaking course will take place at Lough Derravaragh from 7.00pm – 9.00pm on Thursdays July 3\, 10\, 17\, 24. \n\n\n\nThis course is aimed at males aged 18+ who want to learn kayaking and paddle skills in a relaxed\, social and inclusive environment. Participants who complete this course will gain the Canoe Ireland Level 1 in Kayaking Skills certification. \n\n\n\nCost of registration is €50 but participants will be refunded €5 per session attended (** see note below). \n\n\n\nYou do not need to be a strong swimmer to participate in this course but you should feel comfortable in water with a buoyancy aid. \n\n\n\nAs there will be limited changing facilities\, we advise arriving as ready to go as possible. Wetsuits are available to use but if you have your own you can use this. All other safety equipment will also be provided including buoyancy aids\, helmets\, paddles etc. Please ensure you bring old footwear to wear into the water\, a towel\, a drink and sun cream if sunny. \n\n\n\nMeeting point will be the Car Park beside Lough Derravaragh Camping Site. If there is a location change\, you will be notified via the instructor or Westmeath Sports Partnership. Sessions may be postponed if adverse weather conditions and if this happens you will be notified and we will endeavor to rearrange. \n\n\n\n** Refunded amounts will be distributed via the same method of payment at the conclusion of the programme. These courses have extremely high demand so this is to encourage those who are lucky enough to get a place\, to turn up the sessions. If a session is missed for a legitimate reason that is no problem at all\, just let us know. \n\n\n\nFor further queries\, contact cian.fogarty@westmeathcoco.ie
URL:https://www.westmeathsports.ie/event/lads-on-the-lake-mullingar/
LOCATION:Lough Derravaragh\, Lough Derraghvarra Camping And Holiday Centre\, Multyfarnham\, N91 E17T\, Ireland
ATTACH;FMTTYPE=image/png:https://www.westmeathsports.ie/wp-content/uploads/2025/06/Lads-on-the-Lake.png
ORGANIZER;CN="Westmeath Sports Partnership":MAILTO:info@westmeathsports.ie
END:VEVENT
END:VCALENDAR