BEGIN:VCALENDAR
VERSION:2.0
PRODID:-//Westmeath Sports Partnership - ECPv6.2.3.1//NONSGML v1.0//EN
CALSCALE:GREGORIAN
METHOD:PUBLISH
X-WR-CALNAME:Westmeath Sports Partnership
X-ORIGINAL-URL:https://www.westmeathsports.ie
X-WR-CALDESC:Events for Westmeath Sports Partnership
REFRESH-INTERVAL;VALUE=DURATION:PT1H
X-Robots-Tag:noindex
X-PUBLISHED-TTL:PT1H
BEGIN:VTIMEZONE
TZID:Europe/Dublin
BEGIN:STANDARD
TZOFFSETFROM:+0000
TZOFFSETTO:+0100
TZNAME:IST
DTSTART:20250330T010000
END:STANDARD
BEGIN:DAYLIGHT
TZOFFSETFROM:+0100
TZOFFSETTO:+0000
TZNAME:GMT
DTSTART:20251026T010000
END:DAYLIGHT
END:VTIMEZONE
BEGIN:VEVENT
DTSTART;TZID=Europe/Dublin:20250429T203000
DTEND;TZID=Europe/Dublin:20250603T213000
DTSTAMP:20260421T222401
CREATED:20250327T150424Z
LAST-MODIFIED:20250327T150425Z
UID:9274-1745958600-1748986200@www.westmeathsports.ie
SUMMARY:MenoWell Westmeath
DESCRIPTION:MenoWell Westmeath’ is a FREE 6-week online evidence-based exercise\, nutrition\, and health education programme promoting wellness for women in all stages of adult life. This programme is designed to support\, educate\, and empower women in preparation for changes in midlife\, for women experiencing the menopausal transition\, and for supporting women in life after menopause. \n\n\n\nThis programme is starting on Tuesday 29th April 2025 at 8:20pm\, and is aimed at women living in County Westmeath.  \n\n\n\n\n\nProgramme Overview: \n\n\n\n\n2 * 40-minute live online women- and menopause-specific multimodal exercise classes per week – Tuesdays and Thursdays at 8:20pm.\n\n\n\n1 * 30-minute live online women- and menopause-specific health education masterclass per week – Wednesdays at 1pm. Please note\, these are recorded. \n\n\n\nThe health education masterclasses are supplemented with take-home resources including infographics summarising the masterclasses and nutrition recipes. \n\n\n\nAn on-demand library of women- and menopause-specific exercise videos and recorded health education workshops.\n\n\n\n\nThe 40-minute live online exercise classes are instructed in real-time and include a suitable warm up and cool down. These multimodal exercise classes improve your cardiorespiratory fitness\, muscle strength and endurance\, balance\, and flexibility all within the one class! All exercise classes are designed by clinical exercise physiologists specifically for women of all ages and all fitness abilities\, including those living with clinical conditions. The exercise videos included in the on-demand library can be performed at a time and a place most suitable to you\, making it as easy as possible for you to be as fit and as healthy as possible\, anytime\, anywhere. \n\n\n\nThe 30-minute health education masterclasses are delivered by experts via Zoom and focus on different topics relating to women’s health and the menopause journey including muscle\, bone\, and cardiovascular health\, healthy nutrition\, sleep hygiene and self-care. These are recorded so you can watch them back at any time throughout the 6-week programme. \n\n\n\nPlease note\, you will be asked to complete various short-answer questionnaires during this sign-up form and the end of the programme to determine any changes in physical activity participation\, menopausal symptoms (if applicable)\, and wellbeing following the programme. All information is kept strictly private and confidential\, and only group averages will be shared with the programme funders (no identifiable or individual data will be disclosed). \n\n\n\nThe ‘MenoWell Westmeath’ programme is designed and delivered by EduFIT and funded by Westmeath Sports Partnership. \n\n\n\nIf you have any questions\, please contact us by email on programmes@edufit.ie. 
URL:https://www.westmeathsports.ie/event/menowell-westmeath/
LOCATION:Westmeath
ATTACH;FMTTYPE=image/png:https://www.westmeathsports.ie/wp-content/uploads/2025/03/MenoWell-Westmeath-2025.png
ORGANIZER;CN="Westmeath Sports Partnership":MAILTO:info@westmeathsports.ie
END:VEVENT
END:VCALENDAR